BEGIN:VCALENDAR
VERSION:2.0
PRODID:icalendar-ruby
CALSCALE:GREGORIAN
METHOD:PUBLISH
BEGIN:VEVENT
DTSTAMP:20260421T092924Z
UID:1-1855914@ntbch.ca
DTSTART:20260729T230000Z
DTEND:20260730T000000Z
CLASS:PUBLIC
CREATED:20260420T193450
DESCRIPTION:Join us for practical bible teaching\, and a time of prayer. 
LAST-MODIFIED:20260420T193450
LOCATION:
SUMMARY:Wednesday Evening Prayer Meeting and Bible Study
URL;VALUE=URI:https://www.ntbch.ca/events/wednesday-evening-prayer-meeting-
 and-bible-study/2026-07-29
ATTACH;FILENAME=hannah-busing-G-_L3Eqkqmc-unsplash.jpg;FMTTYPE=image/jpeg:h
 ttps://dq5pwpg1q8ru0.cloudfront.net/2020/03/03/14/52/54/86125318-4335-48ba
 -af5b-595e92b5d998/hannah-busing-G-_L3Eqkqmc-unsplash.jpg
END:VEVENT
END:VCALENDAR
