BEGIN:VCALENDAR
VERSION:2.0
PRODID:icalendar-ruby
CALSCALE:GREGORIAN
METHOD:PUBLISH
BEGIN:VEVENT
DTSTAMP:20260420T101748Z
UID:12-1850227@ntbch.ca
DTSTART:20210620T210000Z
DTEND:20210620T220000Z
CLASS:PUBLIC
CREATED:20260420T012306
DESCRIPTION:
LAST-MODIFIED:20260420T012306
LOCATION:
SUMMARY:Sunday Evening Service.
URL;VALUE=URI:https://www.ntbch.ca/events/sunday-evening-service/2021-06-20
END:VEVENT
END:VCALENDAR
