BEGIN:VCALENDAR
VERSION:2.0
PRODID:icalendar-ruby
CALSCALE:GREGORIAN
METHOD:PUBLISH
BEGIN:VEVENT
DTSTAMP:20260420T083601Z
UID:12-1850226@ntbch.ca
DTSTART:20210613T210000Z
DTEND:20210613T220000Z
CLASS:PUBLIC
CREATED:20260420T012306
DESCRIPTION:
LAST-MODIFIED:20260420T012306
LOCATION:
SUMMARY:Sunday Evening Service.
URL;VALUE=URI:https://www.ntbch.ca/events/sunday-evening-service/2021-06-13
END:VEVENT
END:VCALENDAR
