BEGIN:VCALENDAR
VERSION:2.0
PRODID:icalendar-ruby
CALSCALE:GREGORIAN
METHOD:PUBLISH
BEGIN:VEVENT
DTSTAMP:20260420T010728Z
UID:12-1848197@ntbch.ca
DTSTART:20210606T210000Z
DTEND:20210606T220000Z
CLASS:PUBLIC
CREATED:20260419T180538
DESCRIPTION:
LAST-MODIFIED:20260419T180538
LOCATION:
SUMMARY:Sunday Evening Service.
URL;VALUE=URI:https://www.ntbch.ca/events/sunday-evening-service/2021-06-06
END:VEVENT
END:VCALENDAR
